BEGIN:VCALENDAR
VERSION:2.0
PRODID:-//Squarespace Inc/Squarespace 6//v6//EN
BEGIN:VEVENT
UID:570b81f6f699bb7295b92bcc@squarespace.com
DTSTAMP:20160411T105238Z
DTSTART:20160501T110000Z
DTEND:20160503T000000Z
SUMMARY:Dummy Event
END:VEVENT
END:VCALENDAR
